BEGIN:VCALENDAR
VERSION:2.0
PRODID:-//Curbstone Coaches - ECPv6.15.20//NONSGML v1.0//EN
CALSCALE:GREGORIAN
METHOD:PUBLISH
X-WR-CALNAME:Curbstone Coaches
X-ORIGINAL-URL:https://thecurbstonecoaches.org
X-WR-CALDESC:Events for Curbstone Coaches
REFRESH-INTERVAL;VALUE=DURATION:PT1H
X-Robots-Tag:noindex
X-PUBLISHED-TTL:PT1H
BEGIN:VTIMEZONE
TZID:UTC
BEGIN:STANDARD
TZOFFSETFROM:+0000
TZOFFSETTO:+0000
TZNAME:UTC
DTSTART:20250101T000000
END:STANDARD
END:VTIMEZONE
BEGIN:VEVENT
DTSTART;TZID=UTC:20260105T114500
DTEND;TZID=UTC:20260105T131500
DTSTAMP:20260423T205019
CREATED:20251031T204344Z
LAST-MODIFIED:20251105T235348Z
UID:620-1767613500-1767618900@thecurbstonecoaches.org
SUMMARY:High School Fall State Champions
DESCRIPTION:
URL:https://thecurbstonecoaches.org/event/high-school-football-state-champions/
LOCATION:Avion on the Water Banquet Center\, 2177 W Western Reserve Rd #A\, Canfield\, OH\, 44406\, United States
CATEGORIES:Monday Programs
END:VEVENT
BEGIN:VEVENT
DTSTART;TZID=UTC:20260112T114500
DTEND;TZID=UTC:20260112T131500
DTSTAMP:20260423T205019
CREATED:20251031T204604Z
LAST-MODIFIED:20251031T204604Z
UID:624-1768218300-1768223700@thecurbstonecoaches.org
SUMMARY:Jim Rosenhaus-Cleveland Guardians Broadcaster
DESCRIPTION:
URL:https://thecurbstonecoaches.org/event/jim-rosenhaus-cleveland-guardians-broadcaster-2/
LOCATION:Avion on the Water Banquet Center\, 2177 W Western Reserve Rd #A\, Canfield\, OH\, 44406\, United States
CATEGORIES:Monday Programs
END:VEVENT
BEGIN:VEVENT
DTSTART;TZID=UTC:20260119T114500
DTEND;TZID=UTC:20260119T131500
DTSTAMP:20260423T205019
CREATED:20251031T204802Z
LAST-MODIFIED:20251031T204802Z
UID:628-1768823100-1768828500@thecurbstonecoaches.org
SUMMARY:Brian Campbell-YSU Softball Coach
DESCRIPTION:
URL:https://thecurbstonecoaches.org/event/brian-campbell-ysu-softball-coach-4/
LOCATION:Avion on the Water Banquet Center\, 2177 W Western Reserve Rd #A\, Canfield\, OH\, 44406\, United States
CATEGORIES:Monday Programs
END:VEVENT
BEGIN:VEVENT
DTSTART;TZID=UTC:20260126T114500
DTEND;TZID=UTC:20260126T131500
DTSTAMP:20260423T205019
CREATED:20251031T204937Z
LAST-MODIFIED:20251031T204937Z
UID:630-1769427900-1769433300@thecurbstonecoaches.org
SUMMARY:Trevor Charpie-YSU Baseball Coach
DESCRIPTION:
URL:https://thecurbstonecoaches.org/event/trevor-charpie-ysu-baseball-coach-2/
LOCATION:Avion on the Water Banquet Center\, 2177 W Western Reserve Rd #A\, Canfield\, OH\, 44406\, United States
CATEGORIES:Monday Programs
END:VEVENT
END:VCALENDAR