BEGIN:VCALENDAR
VERSION:2.0
PRODID:-//Curbstone Coaches - ECPv6.15.20//NONSGML v1.0//EN
CALSCALE:GREGORIAN
METHOD:PUBLISH
X-WR-CALNAME:Curbstone Coaches
X-ORIGINAL-URL:https://thecurbstonecoaches.org
X-WR-CALDESC:Events for Curbstone Coaches
REFRESH-INTERVAL;VALUE=DURATION:PT1H
X-Robots-Tag:noindex
X-PUBLISHED-TTL:PT1H
BEGIN:VTIMEZONE
TZID:UTC
BEGIN:STANDARD
TZOFFSETFROM:+0000
TZOFFSETTO:+0000
TZNAME:UTC
DTSTART:20220101T000000
END:STANDARD
END:VTIMEZONE
BEGIN:VEVENT
DTSTART;TZID=UTC:20240318T114500
DTEND;TZID=UTC:20240318T131500
DTSTAMP:20260424T154820
CREATED:20240114T010345Z
LAST-MODIFIED:20240114T010744Z
UID:425-1710762300-1710767700@thecurbstonecoaches.org
SUMMARY:Stan Boney-WKBN
DESCRIPTION:
URL:https://thecurbstonecoaches.org/event/stan-boney-wkbn/
LOCATION:Avion on the Water Banquet Center\, 2177 W Western Reserve Rd #A\, Canfield\, OH\, 44406\, United States
END:VEVENT
BEGIN:VEVENT
DTSTART;TZID=UTC:20240311T114500
DTEND;TZID=UTC:20240311T131500
DTSTAMP:20260424T154820
CREATED:20240123T174223Z
LAST-MODIFIED:20240123T192028Z
UID:434-1710157500-1710162900@thecurbstonecoaches.org
SUMMARY:Champ Summers-Longtime Area Radio Sports Personality
DESCRIPTION:
URL:https://thecurbstonecoaches.org/event/champ-summers-local-sports-historian/
LOCATION:Avion on the Water Banquet Center\, 2177 W Western Reserve Rd #A\, Canfield\, OH\, 44406\, United States
END:VEVENT
BEGIN:VEVENT
DTSTART;TZID=UTC:20240304T114500
DTEND;TZID=UTC:20240304T131500
DTSTAMP:20260424T154820
CREATED:20240126T122703Z
LAST-MODIFIED:20240126T122703Z
UID:442-1709552700-1709558100@thecurbstonecoaches.org
SUMMARY:Paul Monroe- Trumbull County Sheriff
DESCRIPTION:
URL:https://thecurbstonecoaches.org/event/paul-monroe-trumbull-county-sheriff/
LOCATION:Avion on the Water Banquet Center\, 2177 W Western Reserve Rd #A\, Canfield\, OH\, 44406\, United States
END:VEVENT
BEGIN:VEVENT
DTSTART;TZID=UTC:20240226T114500
DTEND;TZID=UTC:20240226T131500
DTSTAMP:20260424T154820
CREATED:20240114T005702Z
LAST-MODIFIED:20240123T192304Z
UID:423-1708947900-1708953300@thecurbstonecoaches.org
SUMMARY:Colt McFadden-YSU Assistant Athletic Director
DESCRIPTION:
URL:https://thecurbstonecoaches.org/event/colt-mcfadden-ysu/
LOCATION:Avion on the Water Banquet Center\, 2177 W Western Reserve Rd #A\, Canfield\, OH\, 44406\, United States
END:VEVENT
BEGIN:VEVENT
DTSTART;TZID=UTC:20240219T114500
DTEND;TZID=UTC:20240219T131500
DTSTAMP:20260424T154820
CREATED:20240123T142625Z
LAST-MODIFIED:20240123T142625Z
UID:432-1708343100-1708348500@thecurbstonecoaches.org
SUMMARY:Brittany Bissell-WFMJ Sports Anchor and Reporter
DESCRIPTION:
URL:https://thecurbstonecoaches.org/event/brittany-bissell-wfmj-sports-anchor-and-reporter/
LOCATION:Avion on the Water Banquet Center\, 2177 W Western Reserve Rd #A\, Canfield\, OH\, 44406\, United States
END:VEVENT
BEGIN:VEVENT
DTSTART;TZID=UTC:20240212T114500
DTEND;TZID=UTC:20240212T131500
DTSTAMP:20260424T154820
CREATED:20231212T135425Z
LAST-MODIFIED:20231212T140202Z
UID:411-1707738300-1707743700@thecurbstonecoaches.org
SUMMARY:Doug Kuberski-YSU Bowling Coach
DESCRIPTION:
URL:https://thecurbstonecoaches.org/event/doug-kuberski-ysu-bowling-coach/
LOCATION:Avion on the Water Banquet Center\, 2177 W Western Reserve Rd #A\, Canfield\, OH\, 44406\, United States
END:VEVENT
BEGIN:VEVENT
DTSTART;TZID=UTC:20240205T114500
DTEND;TZID=UTC:20240205T131500
DTSTAMP:20260424T154820
CREATED:20231017T175638Z
LAST-MODIFIED:20231017T175638Z
UID:371-1707133500-1707138900@thecurbstonecoaches.org
SUMMARY:Greg Brown-Pirates TV and Radio Broadcaster
DESCRIPTION:
URL:https://thecurbstonecoaches.org/event/greg-brown-pirates-tv-and-radio-broadcaster/
LOCATION:Avion on the Water Banquet Center\, 2177 W Western Reserve Rd #A\, Canfield\, OH\, 44406\, United States
END:VEVENT
BEGIN:VEVENT
DTSTART;TZID=UTC:20240129T114500
DTEND;TZID=UTC:20240129T131500
DTSTAMP:20260424T154820
CREATED:20231019T135600Z
LAST-MODIFIED:20231019T135600Z
UID:375-1706528700-1706534100@thecurbstonecoaches.org
SUMMARY:Dan Bertolini-YSU Baseball Coach
DESCRIPTION:
URL:https://thecurbstonecoaches.org/event/dan-bertolini-ysu-baseball-coach-3/
LOCATION:Avion on the Water Banquet Center\, 2177 W Western Reserve Rd #A\, Canfield\, OH\, 44406\, United States
END:VEVENT
BEGIN:VEVENT
DTSTART;TZID=UTC:20240122T114500
DTEND;TZID=UTC:20240122T131500
DTSTAMP:20260424T154820
CREATED:20231016T194454Z
LAST-MODIFIED:20231016T194454Z
UID:367-1705923900-1705929300@thecurbstonecoaches.org
SUMMARY:Jim Rosenhaus-Cleveland Guardians Radio Broadcaster
DESCRIPTION:
URL:https://thecurbstonecoaches.org/event/jim-rosenhaus-cleveland-guardians-radio-broadcaster-2/
LOCATION:Avion on the Water Banquet Center\, 2177 W Western Reserve Rd #A\, Canfield\, OH\, 44406\, United States
END:VEVENT
BEGIN:VEVENT
DTSTART;TZID=UTC:20240115T114500
DTEND;TZID=UTC:20240115T131500
DTSTAMP:20260424T154820
CREATED:20231019T135023Z
LAST-MODIFIED:20231019T135304Z
UID:373-1705319100-1705324500@thecurbstonecoaches.org
SUMMARY:Brian Campbell-YSU Softball Coach
DESCRIPTION:
URL:https://thecurbstonecoaches.org/event/brian-campbell-ysu-softball-coach-3/
LOCATION:Avion on the Water Banquet Center\, 2177 W Western Reserve Rd #A\, Canfield\, OH\, 44406\, United States
END:VEVENT
BEGIN:VEVENT
DTSTART;TZID=UTC:20240108T114500
DTEND;TZID=UTC:20240108T131500
DTSTAMP:20260424T154820
CREATED:20231016T194720Z
LAST-MODIFIED:20231212T140000Z
UID:369-1704714300-1704719700@thecurbstonecoaches.org
SUMMARY:Honor High School State Champions- Rebecca Geiss-Division 3 Girls Cross Country-Heartland Christian High School     Bryce Van Horn\, Andrew LaPolla\, Henry Phillips\, Andrew Fredenberg\, and Julian Bolino-Division 3 Boys Golf- John F Kennedy High School
DESCRIPTION:
URL:https://thecurbstonecoaches.org/event/honor-high-school-state-champions-3/
LOCATION:Avion on the Water Banquet Center\, 2177 W Western Reserve Rd #A\, Canfield\, OH\, 44406\, United States
END:VEVENT
BEGIN:VEVENT
DTSTART;TZID=UTC:20231218T114500
DTEND;TZID=UTC:20231218T131500
DTSTAMP:20260424T154820
CREATED:20230926T204339Z
LAST-MODIFIED:20230926T204339Z
UID:360-1702899900-1702905300@thecurbstonecoaches.org
SUMMARY:Tom Miller-World Renowned Boxing Official
DESCRIPTION:
URL:https://thecurbstonecoaches.org/event/tom-miller-world-renowned-boxing-official/
LOCATION:Avion on the Water Banquet Center\, 2177 W Western Reserve Rd #A\, Canfield\, OH\, 44406\, United States
END:VEVENT
BEGIN:VEVENT
DTSTART;TZID=UTC:20231211T114500
DTEND;TZID=UTC:20231211T131500
DTSTAMP:20260424T154820
CREATED:20230926T204009Z
LAST-MODIFIED:20230926T204009Z
UID:357-1702295100-1702300500@thecurbstonecoaches.org
SUMMARY:Dom Mancini-Curbstone HOF Wrestler
DESCRIPTION:
URL:https://thecurbstonecoaches.org/event/dom-mancini-curbstone-hof-wrestler/
LOCATION:Avion on the Water Banquet Center\, 2177 W Western Reserve Rd #A\, Canfield\, OH\, 44406\, United States
END:VEVENT
BEGIN:VEVENT
DTSTART;TZID=UTC:20231204T114500
DTEND;TZID=UTC:20231204T131500
DTSTAMP:20260424T154820
CREATED:20230926T203814Z
LAST-MODIFIED:20230926T203814Z
UID:355-1701690300-1701695700@thecurbstonecoaches.org
SUMMARY:Tom Bochenek-Statistician
DESCRIPTION:
URL:https://thecurbstonecoaches.org/event/tom-bochenek-statistician/
LOCATION:Avion on the Water Banquet Center\, 2177 W Western Reserve Rd #A\, Canfield\, OH\, 44406\, United States
END:VEVENT
BEGIN:VEVENT
DTSTART;TZID=UTC:20231127T114500
DTEND;TZID=UTC:20231127T131500
DTSTAMP:20260424T154820
CREATED:20230929T155439Z
LAST-MODIFIED:20230929T155439Z
UID:363-1701085500-1701090900@thecurbstonecoaches.org
SUMMARY:Dr. Helen Lafferty-YSU Interim President and Paul McFadden-YSU Foundation President
DESCRIPTION:
URL:https://thecurbstonecoaches.org/event/dr-helen-lafferty-ysu-interim-president-and-paul-mcfadden-ysu-foundation-president/
LOCATION:Avion on the Water Banquet Center\, 2177 W Western Reserve Rd #A\, Canfield\, OH\, 44406\, United States
END:VEVENT
BEGIN:VEVENT
DTSTART;TZID=UTC:20231120T114500
DTEND;TZID=UTC:20231120T131500
DTSTAMP:20260424T154820
CREATED:20230917T123810Z
LAST-MODIFIED:20230928T133626Z
UID:349-1700480700-1700486100@thecurbstonecoaches.org
SUMMARY:Joel Whetzel-Youngstown Vindicator/Warren Tribune Sports Editor
DESCRIPTION:
URL:https://thecurbstonecoaches.org/event/joel-whetzel-youngstown-vindicator-warren-tribune-sports-writer/
LOCATION:Avion on the Water Banquet Center\, 2177 W Western Reserve Rd #A\, Canfield\, OH\, 44406\, United States
END:VEVENT
BEGIN:VEVENT
DTSTART;TZID=UTC:20231113T114500
DTEND;TZID=UTC:20231113T131500
DTSTAMP:20260424T154820
CREATED:20230905T120426Z
LAST-MODIFIED:20230918T213215Z
UID:340-1699875900-1699881300@thecurbstonecoaches.org
SUMMARY:Dana Balash-WFMJ TV Sports Director
DESCRIPTION:
URL:https://thecurbstonecoaches.org/event/dana-balash-wfmj-tv-sports-director/
LOCATION:Avion on the Water Banquet Center\, 2177 W Western Reserve Rd #A\, Canfield\, OH\, 44406\, United States
END:VEVENT
BEGIN:VEVENT
DTSTART;TZID=UTC:20231106T114500
DTEND;TZID=UTC:20231106T131500
DTSTAMP:20260424T154820
CREATED:20230905T121210Z
LAST-MODIFIED:20230905T121210Z
UID:347-1699271100-1699276500@thecurbstonecoaches.org
SUMMARY:Bob Hannon-United Way President and Voice of YSU Football
DESCRIPTION:
URL:https://thecurbstonecoaches.org/event/bob-hannon-united-way-president-and-voice-of-ysu-football/
LOCATION:Avion on the Water Banquet Center\, 2177 W Western Reserve Rd #A\, Canfield\, OH\, 44406\, United States
END:VEVENT
BEGIN:VEVENT
DTSTART;TZID=UTC:20231030T114500
DTEND;TZID=UTC:20231030T131500
DTSTAMP:20260424T154820
CREATED:20230905T121012Z
LAST-MODIFIED:20230905T121012Z
UID:345-1698666300-1698671700@thecurbstonecoaches.org
SUMMARY:Jerrod Calhoun-YSU Men's Basketball Coach
DESCRIPTION:
URL:https://thecurbstonecoaches.org/event/jerrod-calhoun-ysu-mens-basketball-coach-2/
LOCATION:Avion on the Water Banquet Center\, 2177 W Western Reserve Rd #A\, Canfield\, OH\, 44406\, United States
END:VEVENT
BEGIN:VEVENT
DTSTART;TZID=UTC:20231023T114500
DTEND;TZID=UTC:20231023T131500
DTSTAMP:20260424T154820
CREATED:20230905T120620Z
LAST-MODIFIED:20231019T201427Z
UID:342-1698061500-1698066900@thecurbstonecoaches.org
SUMMARY:Jason Pacanowski-YSU Women's Basketball Director of Operations
DESCRIPTION:
URL:https://thecurbstonecoaches.org/event/john-barnes-ysu-womens-basketball-coach-2/
LOCATION:Avion on the Water Banquet Center\, 2177 W Western Reserve Rd #A\, Canfield\, OH\, 44406\, United States
END:VEVENT
BEGIN:VEVENT
DTSTART;TZID=UTC:20231016T114500
DTEND;TZID=UTC:20231016T131500
DTSTAMP:20260424T154820
CREATED:20230918T213517Z
LAST-MODIFIED:20230918T213517Z
UID:353-1697456700-1697462100@thecurbstonecoaches.org
SUMMARY:Larry Kehres-Mt. Union National Championship Football Coach
DESCRIPTION:
URL:https://thecurbstonecoaches.org/event/larry-kehres-mt-union-national-championship-football-coach/
LOCATION:Avion on the Water Banquet Center\, 2177 W Western Reserve Rd #A\, Canfield\, OH\, 44406\, United States
END:VEVENT
BEGIN:VEVENT
DTSTART;TZID=UTC:20231009T114500
DTEND;TZID=UTC:20231009T131500
DTSTAMP:20260424T154820
CREATED:20230905T120242Z
LAST-MODIFIED:20230905T120242Z
UID:338-1696851900-1696857300@thecurbstonecoaches.org
SUMMARY:Aline Scott-YSU Volleyball Coach
DESCRIPTION:
URL:https://thecurbstonecoaches.org/event/aline-scott-ysu-volleyball-coach-2/
LOCATION:Avion on the Water Banquet Center\, 2177 W Western Reserve Rd #A\, Canfield\, OH\, 44406\, United States
END:VEVENT
BEGIN:VEVENT
DTSTART;TZID=UTC:20231002T114500
DTEND;TZID=UTC:20231002T131500
DTSTAMP:20260424T154820
CREATED:20230905T115938Z
LAST-MODIFIED:20230905T115938Z
UID:336-1696247100-1696252500@thecurbstonecoaches.org
SUMMARY:Brian Shrum-YSU Women's Soccer Coach
DESCRIPTION:
URL:https://thecurbstonecoaches.org/event/brian-shrum-ysu-womens-soccer-coach/
LOCATION:Avion on the Water Banquet Center\, 2177 W Western Reserve Rd #A\, Canfield\, OH\, 44406\, United States
END:VEVENT
BEGIN:VEVENT
DTSTART;TZID=UTC:20230925T114500
DTEND;TZID=UTC:20230925T131500
DTSTAMP:20260424T154820
CREATED:20230905T115653Z
LAST-MODIFIED:20230905T120032Z
UID:334-1695642300-1695647700@thecurbstonecoaches.org
SUMMARY:Honor YSU Women's Tennis Team-Horizon League Champions
DESCRIPTION:
URL:https://thecurbstonecoaches.org/event/honor-ysu-womens-tennis-team-horizon-league-champions/
LOCATION:Avion on the Water Banquet Center\, 2177 W Western Reserve Rd #A\, Canfield\, OH\, 44406\, United States
END:VEVENT
BEGIN:VEVENT
DTSTART;TZID=UTC:20230918T114500
DTEND;TZID=UTC:20230918T131500
DTSTAMP:20260424T154820
CREATED:20230608T182900Z
LAST-MODIFIED:20230905T120811Z
UID:332-1695037500-1695042900@thecurbstonecoaches.org
SUMMARY:Doug Phillips-YSU Head Football Coach
DESCRIPTION:
URL:https://thecurbstonecoaches.org/event/doug-phillips-ysu-head-football-coach/
LOCATION:Avion on the Water Banquet Center\, 2177 W Western Reserve Rd #A\, Canfield\, OH\, 44406\, United States
END:VEVENT
BEGIN:VEVENT
DTSTART;TZID=UTC:20230911T114500
DTEND;TZID=UTC:20230911T131500
DTSTAMP:20260424T154820
CREATED:20230607T124219Z
LAST-MODIFIED:20230905T120728Z
UID:330-1694432700-1694438100@thecurbstonecoaches.org
SUMMARY:Ron Strollo-YSU Athletic Director
DESCRIPTION:
URL:https://thecurbstonecoaches.org/event/ron-strollo-ysu-athletic-director-2/
LOCATION:Avion on the Water Banquet Center\, 2177 W Western Reserve Rd #A\, Canfield\, OH\, 44406\, United States
END:VEVENT
BEGIN:VEVENT
DTSTART;TZID=UTC:20230619T114500
DTEND;TZID=UTC:20230619T130000
DTSTAMP:20260424T154820
CREATED:20230524T120549Z
LAST-MODIFIED:20230607T123804Z
UID:315-1687175100-1687179600@thecurbstonecoaches.org
SUMMARY:Honor The Following High School State Champions: Jhordan Peete\, Phillip Spradley\, VeShun Gurley\, and Marquez Gibbs- Boys 4 X 100 Meter Relay Team-Valley Christian\, Connor Durig-Boys High Jump-Howland\, Kaleb Nasteri-Boys 800 Meter Run-United\, Caleigh Richards-Girls 3200 Meter Run-Maplewood\, and Makenna Rudy- Girls Shot Put- Salem                                Guest Host-Dana Balash
DESCRIPTION:
URL:https://thecurbstonecoaches.org/event/honor-high-school-state-champions-2/
LOCATION:Avion on the Water Banquet Center\, 2177 W Western Reserve Rd #A\, Canfield\, OH\, 44406\, United States
END:VEVENT
BEGIN:VEVENT
DTSTART;TZID=UTC:20230612T114500
DTEND;TZID=UTC:20230612T130000
DTSTAMP:20260424T154820
CREATED:20230524T120023Z
LAST-MODIFIED:20230607T123953Z
UID:310-1686570300-1686574800@thecurbstonecoaches.org
SUMMARY:Honor State Champion Austintown Fitch Softball Team-Guest Host-Dana Balash
DESCRIPTION:
URL:https://thecurbstonecoaches.org/event/tbd/
LOCATION:Avion on the Water Banquet Center\, 2177 W Western Reserve Rd #A\, Canfield\, OH\, 44406\, United States
END:VEVENT
BEGIN:VEVENT
DTSTART;TZID=UTC:20230605T114500
DTEND;TZID=UTC:20230605T130000
DTSTAMP:20260424T154820
CREATED:20230524T115849Z
LAST-MODIFIED:20230531T203547Z
UID:306-1685965500-1685970000@thecurbstonecoaches.org
SUMMARY:Honor YSU League Championship Teams- Cross Country\, Men's and Women's Indoor Track\, and Men's and Women's Outdoor Track
DESCRIPTION:
URL:https://thecurbstonecoaches.org/event/honor-ysu-league-championship-teams-womens-tennis-cross-country-mens-and-womens-indoor-track-and-mens-and-womens-outdoor-track/
LOCATION:Avion on the Water Banquet Center\, 2177 W Western Reserve Rd #A\, Canfield\, OH\, 44406\, United States
END:VEVENT
BEGIN:VEVENT
DTSTART;TZID=UTC:20230529T114500
DTEND;TZID=UTC:20230529T130000
DTSTAMP:20260424T154820
CREATED:20230524T115533Z
LAST-MODIFIED:20230524T115533Z
UID:304-1685360700-1685365200@thecurbstonecoaches.org
SUMMARY:No Luncheon-Holiday
DESCRIPTION:
URL:https://thecurbstonecoaches.org/event/no-luncheon-holiday/
LOCATION:Avion on the Water Banquet Center\, 2177 W Western Reserve Rd #A\, Canfield\, OH\, 44406\, United States
CATEGORIES:Monday Programs
END:VEVENT
END:VCALENDAR