BEGIN:VCALENDAR
VERSION:2.0
PRODID:-//Curbstone Coaches - ECPv6.15.20//NONSGML v1.0//EN
CALSCALE:GREGORIAN
METHOD:PUBLISH
X-ORIGINAL-URL:https://thecurbstonecoaches.org
X-WR-CALDESC:Events for Curbstone Coaches
REFRESH-INTERVAL;VALUE=DURATION:PT1H
X-Robots-Tag:noindex
X-PUBLISHED-TTL:PT1H
BEGIN:VTIMEZONE
TZID:UTC
BEGIN:STANDARD
TZOFFSETFROM:+0000
TZOFFSETTO:+0000
TZNAME:UTC
DTSTART:20250101T000000
END:STANDARD
END:VTIMEZONE
BEGIN:VEVENT
DTSTART;TZID=UTC:20260504T114500
DTEND;TZID=UTC:20260504T131500
DTSTAMP:20260423T205643
CREATED:20260129T213913Z
LAST-MODIFIED:20260129T213913Z
UID:675-1777895100-1777900500@thecurbstonecoaches.org
SUMMARY:No Meeting
DESCRIPTION:
URL:https://thecurbstonecoaches.org/event/no-meeting-2/
LOCATION:Avion on the Water Banquet Center\, 2177 W Western Reserve Rd #A\, Canfield\, OH\, 44406\, United States
CATEGORIES:Monday Programs
END:VEVENT
BEGIN:VEVENT
DTSTART;TZID=UTC:20260511T114500
DTEND;TZID=UTC:20260511T131500
DTSTAMP:20260423T205643
CREATED:20260129T214240Z
LAST-MODIFIED:20260129T214240Z
UID:678-1778499900-1778505300@thecurbstonecoaches.org
SUMMARY:Matt Thompson-Mahoning Valley Scrappers Assistant General Manager
DESCRIPTION:
URL:https://thecurbstonecoaches.org/event/matt-thompson-mahoning-valley-scrappers-assistant-general-manager-2/
LOCATION:Avion on the Water Banquet Center\, 2177 W Western Reserve Rd #A\, Canfield\, OH\, 44406\, United States
CATEGORIES:Monday Programs
END:VEVENT
BEGIN:VEVENT
DTSTART;TZID=UTC:20260518T114500
DTEND;TZID=UTC:20260518T131500
DTSTAMP:20260423T205643
CREATED:20260129T214507Z
LAST-MODIFIED:20260129T214507Z
UID:680-1779104700-1779110100@thecurbstonecoaches.org
SUMMARY:YSU Track and Cross Country Champions
DESCRIPTION:
URL:https://thecurbstonecoaches.org/event/ysu-track-and-cross-country-champions/
LOCATION:Avion on the Water Banquet Center\, 2177 W Western Reserve Rd #A\, Canfield\, OH\, 44406\, United States
CATEGORIES:Monday Programs
END:VEVENT
BEGIN:VEVENT
DTSTART;TZID=UTC:20260622T114500
DTEND;TZID=UTC:20260622T131500
DTSTAMP:20260423T205643
CREATED:20260129T214727Z
LAST-MODIFIED:20260129T214727Z
UID:682-1782128700-1782134100@thecurbstonecoaches.org
SUMMARY:High School Spring State Champions
DESCRIPTION:
URL:https://thecurbstonecoaches.org/event/high-school-spring-state-champions/
LOCATION:Avion on the Water Banquet Center\, 2177 W Western Reserve Rd #A\, Canfield\, OH\, 44406\, United States
CATEGORIES:Monday Programs
END:VEVENT
END:VCALENDAR