BEGIN:VCALENDAR
VERSION:2.0
PRODID:-//Curbstone Coaches - ECPv6.15.20//NONSGML v1.0//EN
CALSCALE:GREGORIAN
METHOD:PUBLISH
X-ORIGINAL-URL:https://thecurbstonecoaches.org
X-WR-CALDESC:Events for Curbstone Coaches
REFRESH-INTERVAL;VALUE=DURATION:PT1H
X-Robots-Tag:noindex
X-PUBLISHED-TTL:PT1H
BEGIN:VTIMEZONE
TZID:UTC
BEGIN:STANDARD
TZOFFSETFROM:+0000
TZOFFSETTO:+0000
TZNAME:UTC
DTSTART:20230101T000000
END:STANDARD
END:VTIMEZONE
BEGIN:VEVENT
DTSTART;TZID=UTC:20250428T114500
DTEND;TZID=UTC:20250428T131500
DTSTAMP:20260423T205229
CREATED:20250327T164633Z
LAST-MODIFIED:20250327T165344Z
UID:551-1745840700-1745846100@thecurbstonecoaches.org
SUMMARY:Madison Chapman-YSU Social Media Director
DESCRIPTION:
URL:https://thecurbstonecoaches.org/event/madison-chapman-ysu-social-media-director/
LOCATION:Avion on the Water Banquet Center\, 2177 W Western Reserve Rd #A\, Canfield\, OH\, 44406\, United States
CATEGORIES:Monday Programs
END:VEVENT
BEGIN:VEVENT
DTSTART;TZID=UTC:20250421T114500
DTEND;TZID=UTC:20250421T131500
DTSTAMP:20260423T205229
CREATED:20250327T164408Z
LAST-MODIFIED:20250327T164408Z
UID:549-1745235900-1745241300@thecurbstonecoaches.org
SUMMARY:Rick Muntean- Former Minor League Baseball General Manager
DESCRIPTION:
URL:https://thecurbstonecoaches.org/event/rick-muntean-former-minor-league-baseball-general-manager/
LOCATION:Avion on the Water Banquet Center\, 2177 W Western Reserve Rd #A\, Canfield\, OH\, 44406\, United States
CATEGORIES:Monday Programs
END:VEVENT
BEGIN:VEVENT
DTSTART;TZID=UTC:20250414T114500
DTEND;TZID=UTC:20250414T131500
DTSTAMP:20260423T205229
CREATED:20250327T162103Z
LAST-MODIFIED:20250327T162103Z
UID:547-1744631100-1744636500@thecurbstonecoaches.org
SUMMARY:Doug Phillips-YSU Football Coach/Spring Football Review
DESCRIPTION:
URL:https://thecurbstonecoaches.org/event/doug-phillips-ysu-football-coach-spring-football-review/
LOCATION:Avion on the Water Banquet Center\, 2177 W Western Reserve Rd #A\, Canfield\, OH\, 44406\, United States
CATEGORIES:Monday Programs
END:VEVENT
BEGIN:VEVENT
DTSTART;TZID=UTC:20250407T114500
DTEND;TZID=UTC:20250407T131500
DTSTAMP:20260423T205229
CREATED:20250110T181451Z
LAST-MODIFIED:20250110T181451Z
UID:544-1744026300-1744031700@thecurbstonecoaches.org
SUMMARY:Joe DeRosa-Former NBA and NCAA Final Four Referee
DESCRIPTION:
URL:https://thecurbstonecoaches.org/event/joe-derosa-former-nba-and-ncaa-final-four-referee/
LOCATION:Avion on the Water Banquet Center\, 2177 W Western Reserve Rd #A\, Canfield\, OH\, 44406\, United States
CATEGORIES:Monday Programs
END:VEVENT
BEGIN:VEVENT
DTSTART;TZID=UTC:20250331T114500
DTEND;TZID=UTC:20250331T131500
DTSTAMP:20260423T205229
CREATED:20250110T181253Z
LAST-MODIFIED:20250327T161804Z
UID:542-1743421500-1743426900@thecurbstonecoaches.org
SUMMARY:Roy Sembach- Newton Falls Boys Basketball Coach
DESCRIPTION:
URL:https://thecurbstonecoaches.org/event/winter-high-school-state-champions/
LOCATION:Avion on the Water Banquet Center\, 2177 W Western Reserve Rd #A\, Canfield\, OH\, 44406\, United States
CATEGORIES:Monday Programs
END:VEVENT
BEGIN:VEVENT
DTSTART;TZID=UTC:20250310T114500
DTEND;TZID=UTC:20250310T131500
DTSTAMP:20260423T205229
CREATED:20250110T181040Z
LAST-MODIFIED:20250110T181040Z
UID:540-1741607100-1741612500@thecurbstonecoaches.org
SUMMARY:Kevin Brogan-Hollywood Gaming General Manager
DESCRIPTION:
URL:https://thecurbstonecoaches.org/event/kevin-brogan-hollywood-gaming-general-manager/
LOCATION:Avion on the Water Banquet Center\, 2177 W Western Reserve Rd #A\, Canfield\, OH\, 44406\, United States
CATEGORIES:Monday Programs
END:VEVENT
BEGIN:VEVENT
DTSTART;TZID=UTC:20250303T114500
DTEND;TZID=UTC:20250303T131500
DTSTAMP:20260423T205229
CREATED:20250110T180859Z
LAST-MODIFIED:20250110T180859Z
UID:538-1741002300-1741007700@thecurbstonecoaches.org
SUMMARY:Ryan Ward-Youngstown Phantoms Head Coach
DESCRIPTION:
URL:https://thecurbstonecoaches.org/event/ryan-ward-youngstown-phantoms-head-coach/
LOCATION:Avion on the Water Banquet Center\, 2177 W Western Reserve Rd #A\, Canfield\, OH\, 44406\, United States
CATEGORIES:Monday Programs
END:VEVENT
BEGIN:VEVENT
DTSTART;TZID=UTC:20250224T111500
DTEND;TZID=UTC:20250224T131500
DTSTAMP:20260423T205229
CREATED:20250110T180702Z
LAST-MODIFIED:20250110T180702Z
UID:536-1740395700-1740402900@thecurbstonecoaches.org
SUMMARY:Doug Kuberski-YSU Bowling Coach
DESCRIPTION:
URL:https://thecurbstonecoaches.org/event/doug-kuberski-ysu-bowling-coach-2/
LOCATION:Avion on the Water Banquet Center\, 2177 W Western Reserve Rd #A\, Canfield\, OH\, 44406\, United States
CATEGORIES:Monday Programs
END:VEVENT
BEGIN:VEVENT
DTSTART;TZID=UTC:20250217T114500
DTEND;TZID=UTC:20250217T131500
DTSTAMP:20260423T205229
CREATED:20250110T180519Z
LAST-MODIFIED:20250110T180519Z
UID:534-1739792700-1739798100@thecurbstonecoaches.org
SUMMARY:Ann Marie Martin-Area High School Sports Official
DESCRIPTION:
URL:https://thecurbstonecoaches.org/event/ann-marie-martin-area-high-school-sports-official/
LOCATION:Avion on the Water Banquet Center\, 2177 W Western Reserve Rd #A\, Canfield\, OH\, 44406\, United States
CATEGORIES:Monday Programs
END:VEVENT
BEGIN:VEVENT
DTSTART;TZID=UTC:20250210T114500
DTEND;TZID=UTC:20250210T131500
DTSTAMP:20260423T205229
CREATED:20250110T180241Z
LAST-MODIFIED:20250110T180241Z
UID:532-1739187900-1739193300@thecurbstonecoaches.org
SUMMARY:Robb Schmidt-YSU Men's Basketball Play by Play Announcer
DESCRIPTION:
URL:https://thecurbstonecoaches.org/event/robb-schmidt-ysu-mens-basketball-play-by-play-announcer/
LOCATION:Avion on the Water Banquet Center\, 2177 W Western Reserve Rd #A\, Canfield\, OH\, 44406\, United States
CATEGORIES:Monday Programs
END:VEVENT
BEGIN:VEVENT
DTSTART;TZID=UTC:20250203T114500
DTEND;TZID=UTC:20250203T131500
DTSTAMP:20260423T205229
CREATED:20241107T061150Z
LAST-MODIFIED:20241107T061150Z
UID:514-1738583100-1738588500@thecurbstonecoaches.org
SUMMARY:Greg Brown-Pittsburgh Pirates Broadcaster
DESCRIPTION:
URL:https://thecurbstonecoaches.org/event/greg-brown-pittsburgh-pirates-broadcaster/
LOCATION:Avion on the Water Banquet Center\, 2177 W Western Reserve Rd #A\, Canfield\, OH\, 44406\, United States
CATEGORIES:Monday Programs
END:VEVENT
BEGIN:VEVENT
DTSTART;TZID=UTC:20250127T114500
DTEND;TZID=UTC:20250127T131500
DTSTAMP:20260423T205229
CREATED:20241120T182956Z
LAST-MODIFIED:20241120T182956Z
UID:528-1737978300-1737983700@thecurbstonecoaches.org
SUMMARY:Trevor Charpie-YSU Baseball Coach
DESCRIPTION:
URL:https://thecurbstonecoaches.org/event/trevor-charpie-ysu-baseball-coach/
LOCATION:Avion on the Water Banquet Center\, 2177 W Western Reserve Rd #A\, Canfield\, OH\, 44406\, United States
CATEGORIES:Monday Programs
END:VEVENT
BEGIN:VEVENT
DTSTART;TZID=UTC:20250120T114500
DTEND;TZID=UTC:20250120T131500
DTSTAMP:20260423T205229
CREATED:20241120T182510Z
LAST-MODIFIED:20241120T182559Z
UID:523-1737373500-1737378900@thecurbstonecoaches.org
SUMMARY:Brian Campbell-YSU Softball Coach
DESCRIPTION:
URL:https://thecurbstonecoaches.org/event/brian-campbell/
LOCATION:Avion on the Water Banquet Center\, 2177 W Western Reserve Rd #A\, Canfield\, OH\, 44406\, United States
CATEGORIES:Monday Programs
END:VEVENT
BEGIN:VEVENT
DTSTART;TZID=UTC:20250113T114500
DTEND;TZID=UTC:20250113T131500
DTSTAMP:20260423T205229
CREATED:20241107T060947Z
LAST-MODIFIED:20241107T060947Z
UID:512-1736768700-1736774100@thecurbstonecoaches.org
SUMMARY:Jim Rosenhaus-Cleveland Guardians Broadcaster
DESCRIPTION:
URL:https://thecurbstonecoaches.org/event/jim-rosenhaus-cleveland-guardians-broadcaster/
LOCATION:Avion on the Water Banquet Center\, 2177 W Western Reserve Rd #A\, Canfield\, OH\, 44406\, United States
CATEGORIES:Monday Programs
END:VEVENT
BEGIN:VEVENT
DTSTART;TZID=UTC:20250106T114500
DTEND;TZID=UTC:20250106T131500
DTSTAMP:20260423T205229
CREATED:20241107T060801Z
LAST-MODIFIED:20241120T182751Z
UID:510-1736163900-1736169300@thecurbstonecoaches.org
SUMMARY:Fall High School State Champions
DESCRIPTION:
URL:https://thecurbstonecoaches.org/event/fall-high-school-champions/
LOCATION:Avion on the Water Banquet Center\, 2177 W Western Reserve Rd #A\, Canfield\, OH\, 44406\, United States
CATEGORIES:Monday Programs
END:VEVENT
BEGIN:VEVENT
DTSTART;TZID=UTC:20241230T114500
DTEND;TZID=UTC:20241230T131500
DTSTAMP:20260423T205229
CREATED:20241107T062127Z
LAST-MODIFIED:20241107T062127Z
UID:521-1735559100-1735564500@thecurbstonecoaches.org
SUMMARY:No Meeting-Holiday
DESCRIPTION:
URL:https://thecurbstonecoaches.org/event/no-meeting-holiday-2/
LOCATION:OH
CATEGORIES:Monday Programs
END:VEVENT
BEGIN:VEVENT
DTSTART;TZID=UTC:20241223T114500
DTEND;TZID=UTC:20241223T131500
DTSTAMP:20260423T205229
CREATED:20241107T061506Z
LAST-MODIFIED:20241107T061647Z
UID:516-1734954300-1734959700@thecurbstonecoaches.org
SUMMARY:No Meeting-Holiday
DESCRIPTION:
URL:https://thecurbstonecoaches.org/event/no-meeting-holiday/
LOCATION:OH
CATEGORIES:Monday Programs
END:VEVENT
BEGIN:VEVENT
DTSTART;TZID=UTC:20241216T114500
DTEND;TZID=UTC:20241216T131500
DTSTAMP:20260423T205229
CREATED:20241107T060529Z
LAST-MODIFIED:20241107T060529Z
UID:508-1734349500-1734354900@thecurbstonecoaches.org
SUMMARY:Dr. Ray Duffett-Sports Orthopedic Surgeon
DESCRIPTION:
URL:https://thecurbstonecoaches.org/event/dr-ray-duffett-sports-orthopedic-surgeon/
LOCATION:Avion on the Water Banquet Center\, 2177 W Western Reserve Rd #A\, Canfield\, OH\, 44406\, United States
CATEGORIES:Monday Programs
END:VEVENT
BEGIN:VEVENT
DTSTART;TZID=UTC:20241209T114500
DTEND;TZID=UTC:20241209T131500
DTSTAMP:20260423T205229
CREATED:20241025T171516Z
LAST-MODIFIED:20241106T130330Z
UID:505-1733744700-1733750100@thecurbstonecoaches.org
SUMMARY:Ty Petrey-Penguin Collective NIL
DESCRIPTION:
URL:https://thecurbstonecoaches.org/event/ty-petry-penguin-collective-nil/
LOCATION:Avion on the Water Banquet Center\, 2177 W Western Reserve Rd #A\, Canfield\, OH\, 44406\, United States
CATEGORIES:Monday Programs
END:VEVENT
BEGIN:VEVENT
DTSTART;TZID=UTC:20241202T114500
DTEND;TZID=UTC:20241202T131500
DTSTAMP:20260423T205229
CREATED:20241025T171254Z
LAST-MODIFIED:20241025T171254Z
UID:503-1733139900-1733145300@thecurbstonecoaches.org
SUMMARY:John Mang- Veteran Area Official
DESCRIPTION:
URL:https://thecurbstonecoaches.org/event/john-mang-veteran-area-official/
LOCATION:Avion on the Water Banquet Center\, 2177 W Western Reserve Rd #A\, Canfield\, OH\, 44406\, United States
CATEGORIES:Monday Programs
END:VEVENT
BEGIN:VEVENT
DTSTART;TZID=UTC:20241125T114500
DTEND;TZID=UTC:20241125T131500
DTSTAMP:20260423T205229
CREATED:20241014T134731Z
LAST-MODIFIED:20241014T134731Z
UID:498-1732535100-1732540500@thecurbstonecoaches.org
SUMMARY:DJ Yokley-Your Sports Network -President
DESCRIPTION:
URL:https://thecurbstonecoaches.org/event/dj-yokley-your-sports-network-president/
LOCATION:Avion on the Water Banquet Center\, 2177 W Western Reserve Rd #A\, Canfield\, OH\, 44406\, United States
CATEGORIES:Monday Programs
END:VEVENT
BEGIN:VEVENT
DTSTART;TZID=UTC:20241118T114500
DTEND;TZID=UTC:20241118T131500
DTSTAMP:20260423T205229
CREATED:20241014T134041Z
LAST-MODIFIED:20241014T134318Z
UID:495-1731930300-1731935700@thecurbstonecoaches.org
SUMMARY:Trevor Parks-YSU Director of Athletics Communications
DESCRIPTION:
URL:https://thecurbstonecoaches.org/event/trevor-parks-ysu-director-of-athletics-communications/
LOCATION:Avion on the Water Banquet Center\, 2177 W Western Reserve Rd #A\, Canfield\, OH\, 44406\, United States
CATEGORIES:Monday Programs
END:VEVENT
BEGIN:VEVENT
DTSTART;TZID=UTC:20241111T114500
DTEND;TZID=UTC:20241111T131500
DTSTAMP:20260423T205229
CREATED:20240917T234813Z
LAST-MODIFIED:20240917T234813Z
UID:493-1731325500-1731330900@thecurbstonecoaches.org
SUMMARY:Dan Hiner- Vindy/Tribune Sports Editor
DESCRIPTION:
URL:https://thecurbstonecoaches.org/event/dan-hiner-vindy-tribune-sports-editor/
LOCATION:Avion on the Water Banquet Center\, 2177 W Western Reserve Rd #A\, Canfield\, OH\, 44406\, United States
CATEGORIES:Monday Programs
END:VEVENT
BEGIN:VEVENT
DTSTART;TZID=UTC:20241104T114500
DTEND;TZID=UTC:20241104T131500
DTSTAMP:20260423T205229
CREATED:20240917T233813Z
LAST-MODIFIED:20240917T234627Z
UID:489-1730720700-1730726100@thecurbstonecoaches.org
SUMMARY:Ethan Faulkner- YSU Men's Basketball Coach
DESCRIPTION:
URL:https://thecurbstonecoaches.org/event/ethan-faulkner-ysumens-basketball-coach/
LOCATION:Avion on the Water Banquet Center\, 2177 W Western Reserve Rd #A\, Canfield\, OH\, 44406\, United States
CATEGORIES:Monday Programs
END:VEVENT
BEGIN:VEVENT
DTSTART;TZID=UTC:20241028T114500
DTEND;TZID=UTC:20241028T131500
DTSTAMP:20260423T205229
CREATED:20240917T233534Z
LAST-MODIFIED:20240917T234529Z
UID:485-1730115900-1730121300@thecurbstonecoaches.org
SUMMARY:JR McFarland-Hall of Fame Track Coach
DESCRIPTION:
URL:https://thecurbstonecoaches.org/event/jr-mcfarland-hall-of-fame-track-coach/
LOCATION:Avion on the Water Banquet Center\, 2177 W Western Reserve Rd #A\, Canfield\, OH\, 44406\, United States
CATEGORIES:Monday Programs
END:VEVENT
BEGIN:VEVENT
DTSTART;TZID=UTC:20241021T114500
DTEND;TZID=UTC:20241021T131500
DTSTAMP:20260423T205229
CREATED:20240917T230121Z
LAST-MODIFIED:20240917T234421Z
UID:480-1729511100-1729516500@thecurbstonecoaches.org
SUMMARY:Melissa Jackson-YSU Women's Basketball Coach
DESCRIPTION:
URL:https://thecurbstonecoaches.org/event/melissa-jackson-ysu-womens-basketball-coach-2/
LOCATION:Avion on the Water Banquet Center\, 2177 W Western Reserve Rd #A\, Canfield\, OH\, 44406\, United States
CATEGORIES:Monday Programs
END:VEVENT
BEGIN:VEVENT
DTSTART;TZID=UTC:20241014T114500
DTEND;TZID=UTC:20241014T131500
DTSTAMP:20260423T205229
CREATED:20240917T225724Z
LAST-MODIFIED:20240917T234321Z
UID:478-1728906300-1728911700@thecurbstonecoaches.org
SUMMARY:Bob Hannon-YSU Radio Play By Play Announcer
DESCRIPTION:
URL:https://thecurbstonecoaches.org/event/bob-hannon-ysu-radio-play-by-play-announcer/
LOCATION:Avion on the Water Banquet Center\, 2177 W Western Reserve Rd #A\, Canfield\, OH\, 44406\, United States
CATEGORIES:Monday Programs
END:VEVENT
BEGIN:VEVENT
DTSTART;TZID=UTC:20241007T114500
DTEND;TZID=UTC:20241007T131500
DTSTAMP:20260423T205229
CREATED:20240802T213018Z
LAST-MODIFIED:20240802T213018Z
UID:473-1728301500-1728306900@thecurbstonecoaches.org
SUMMARY:Riley Jarrett-YSU Volleyball Coach
DESCRIPTION:
URL:https://thecurbstonecoaches.org/event/riley-jarrett-ysu-volleyball-coach/
LOCATION:Avion on the Water Banquet Center\, 2177 W Western Reserve Rd #A\, Canfield\, OH\, 44406\, United States
CATEGORIES:Monday Programs
END:VEVENT
BEGIN:VEVENT
DTSTART;TZID=UTC:20240930T114500
DTEND;TZID=UTC:20240930T131500
DTSTAMP:20260423T205229
CREATED:20240802T212748Z
LAST-MODIFIED:20240802T212748Z
UID:470-1727696700-1727702100@thecurbstonecoaches.org
SUMMARY:Brian Shrum- YSU Soccer Coach
DESCRIPTION:
URL:https://thecurbstonecoaches.org/event/brian-shrum-ysu-soccer-coach/
LOCATION:Avion on the Water Banquet Center\, 2177 W Western Reserve Rd #A\, Canfield\, OH\, 44406\, United States
CATEGORIES:Monday Programs
END:VEVENT
BEGIN:VEVENT
DTSTART;TZID=UTC:20240923T114500
DTEND;TZID=UTC:20240923T131500
DTSTAMP:20260423T205229
CREATED:20240802T212446Z
LAST-MODIFIED:20240917T225455Z
UID:468-1727091900-1727097300@thecurbstonecoaches.org
SUMMARY:Dana Balash- WFMJ Sports Director
DESCRIPTION:
URL:https://thecurbstonecoaches.org/event/bob-hannon-ysu-football-radio-play-by-play-announcer/
LOCATION:Avion on the Water Banquet Center\, 2177 W Western Reserve Rd #A\, Canfield\, OH\, 44406\, United States
CATEGORIES:Monday Programs
END:VEVENT
END:VCALENDAR