BEGIN:VCALENDAR
VERSION:2.0
PRODID:-//Curbstone Coaches - ECPv6.15.20//NONSGML v1.0//EN
CALSCALE:GREGORIAN
METHOD:PUBLISH
X-ORIGINAL-URL:https://thecurbstonecoaches.org
X-WR-CALDESC:Events for Curbstone Coaches
REFRESH-INTERVAL;VALUE=DURATION:PT1H
X-Robots-Tag:noindex
X-PUBLISHED-TTL:PT1H
BEGIN:VTIMEZONE
TZID:UTC
BEGIN:STANDARD
TZOFFSETFROM:+0000
TZOFFSETTO:+0000
TZNAME:UTC
DTSTART:20230101T000000
END:STANDARD
END:VTIMEZONE
BEGIN:VEVENT
DTSTART;TZID=UTC:20241230T114500
DTEND;TZID=UTC:20241230T131500
DTSTAMP:20260424T174824
CREATED:20241107T062127Z
LAST-MODIFIED:20241107T062127Z
UID:521-1735559100-1735564500@thecurbstonecoaches.org
SUMMARY:No Meeting-Holiday
DESCRIPTION:
URL:https://thecurbstonecoaches.org/event/no-meeting-holiday-2/
LOCATION:OH
CATEGORIES:Monday Programs
END:VEVENT
END:VCALENDAR