BEGIN:VCALENDAR
VERSION:2.0
PRODID:-//Curbstone Coaches - ECPv6.15.20//NONSGML v1.0//EN
CALSCALE:GREGORIAN
METHOD:PUBLISH
X-WR-CALNAME:Curbstone Coaches
X-ORIGINAL-URL:https://thecurbstonecoaches.org
X-WR-CALDESC:Events for Curbstone Coaches
REFRESH-INTERVAL;VALUE=DURATION:PT1H
X-Robots-Tag:noindex
X-PUBLISHED-TTL:PT1H
BEGIN:VTIMEZONE
TZID:UTC
BEGIN:STANDARD
TZOFFSETFROM:+0000
TZOFFSETTO:+0000
TZNAME:UTC
DTSTART:20250101T000000
END:STANDARD
END:VTIMEZONE
BEGIN:VEVENT
DTSTART;TZID=UTC:20260302T114500
DTEND;TZID=UTC:20260302T131500
DTSTAMP:20260423T174614
CREATED:20260129T211508Z
LAST-MODIFIED:20260129T211508Z
UID:653-1772451900-1772457300@thecurbstonecoaches.org
SUMMARY:Ryan Ward- Youngstown Phantoms Head Coach
DESCRIPTION:
URL:https://thecurbstonecoaches.org/event/ryan-ward-youngstown-phantoms-head-coach-2/
LOCATION:Avion on the Water Banquet Center\, 2177 W Western Reserve Rd #A\, Canfield\, OH\, 44406\, United States
CATEGORIES:Monday Programs
END:VEVENT
BEGIN:VEVENT
DTSTART;TZID=UTC:20260309T114500
DTEND;TZID=UTC:20260309T131500
DTSTAMP:20260423T174614
CREATED:20260129T211731Z
LAST-MODIFIED:20260129T211731Z
UID:656-1773056700-1773062100@thecurbstonecoaches.org
SUMMARY:Liza Oakley-YSU Lacrosse Coach
DESCRIPTION:
URL:https://thecurbstonecoaches.org/event/liza-oakley-ysu-lacrosse-coach/
LOCATION:Avion on the Water Banquet Center\, 2177 W Western Reserve Rd #A\, Canfield\, OH\, 44406\, United States
CATEGORIES:Monday Programs
END:VEVENT
BEGIN:VEVENT
DTSTART;TZID=UTC:20260316T114500
DTEND;TZID=UTC:20260316T131500
DTSTAMP:20260423T174614
CREATED:20260129T211947Z
LAST-MODIFIED:20260129T211947Z
UID:658-1773661500-1773666900@thecurbstonecoaches.org
SUMMARY:Doug Kuberski- YSU Bowling Coach
DESCRIPTION:
URL:https://thecurbstonecoaches.org/event/doug-kuberski-ysu-bowling-coach-3/
LOCATION:Avion on the Water Banquet Center\, 2177 W Western Reserve Rd #A\, Canfield\, OH\, 44406\, United States
CATEGORIES:Monday Programs
END:VEVENT
BEGIN:VEVENT
DTSTART;TZID=UTC:20260323T114500
DTEND;TZID=UTC:20260323T131500
DTSTAMP:20260423T174614
CREATED:20260129T212200Z
LAST-MODIFIED:20260129T212200Z
UID:660-1774266300-1774271700@thecurbstonecoaches.org
SUMMARY:Tom Bochenek-Sports Media Relations
DESCRIPTION:
URL:https://thecurbstonecoaches.org/event/tom-bochenek-sports-media-relations/
LOCATION:Avion on the Water Banquet Center\, 2177 W Western Reserve Rd #A\, Canfield\, OH\, 44406\, United States
CATEGORIES:Monday Programs
END:VEVENT
BEGIN:VEVENT
DTSTART;TZID=UTC:20260330T114500
DTEND;TZID=UTC:20260330T131500
DTSTAMP:20260423T174614
CREATED:20260129T212426Z
LAST-MODIFIED:20260129T212426Z
UID:662-1774871100-1774876500@thecurbstonecoaches.org
SUMMARY:Joe DeRosa- Retired NBA/NCAA Basketball Official
DESCRIPTION:
URL:https://thecurbstonecoaches.org/event/joe-derosa-retired-nba-ncaa-basketball-official/
LOCATION:Avion on the Water Banquet Center\, 2177 W Western Reserve Rd #A\, Canfield\, OH\, 44406\, United States
CATEGORIES:Monday Programs
END:VEVENT
END:VCALENDAR