BEGIN:VCALENDAR
VERSION:2.0
PRODID:-//Curbstone Coaches - ECPv6.15.20//NONSGML v1.0//EN
CALSCALE:GREGORIAN
METHOD:PUBLISH
X-WR-CALNAME:Curbstone Coaches
X-ORIGINAL-URL:https://thecurbstonecoaches.org
X-WR-CALDESC:Events for Curbstone Coaches
REFRESH-INTERVAL;VALUE=DURATION:PT1H
X-Robots-Tag:noindex
X-PUBLISHED-TTL:PT1H
BEGIN:VTIMEZONE
TZID:UTC
BEGIN:STANDARD
TZOFFSETFROM:+0000
TZOFFSETTO:+0000
TZNAME:UTC
DTSTART:20250101T000000
END:STANDARD
END:VTIMEZONE
BEGIN:VEVENT
DTSTART;TZID=UTC:20260202T114500
DTEND;TZID=UTC:20260202T131500
DTSTAMP:20260423T193428
CREATED:20251031T205139Z
LAST-MODIFIED:20251031T205139Z
UID:634-1770032700-1770038100@thecurbstonecoaches.org
SUMMARY:Greg Brown-Pittsburgh Pirates Broadcaster
DESCRIPTION:
URL:https://thecurbstonecoaches.org/event/greg-brown-pittsburgh-pirates-broadcaster-2/
LOCATION:Avion on the Water Banquet Center\, 2177 W Western Reserve Rd #A\, Canfield\, OH\, 44406\, United States
CATEGORIES:Monday Programs
END:VEVENT
BEGIN:VEVENT
DTSTART;TZID=UTC:20260209T114500
DTEND;TZID=UTC:20260209T131500
DTSTAMP:20260423T193428
CREATED:20260129T210351Z
LAST-MODIFIED:20260129T210351Z
UID:646-1770637500-1770642900@thecurbstonecoaches.org
SUMMARY:Tracey Innocent- YSU Athletics Travel Specialist
DESCRIPTION:
URL:https://thecurbstonecoaches.org/event/tracey-innocent-ysu-athletics-travel-specialist/
LOCATION:Avion on the Water Banquet Center\, 2177 W Western Reserve Rd #A\, Canfield\, OH\, 44406\, United States
CATEGORIES:Monday Programs
END:VEVENT
BEGIN:VEVENT
DTSTART;TZID=UTC:20260216T114500
DTEND;TZID=UTC:20260216T131500
DTSTAMP:20260423T193428
CREATED:20260129T210808Z
LAST-MODIFIED:20260129T210808Z
UID:648-1771242300-1771247700@thecurbstonecoaches.org
SUMMARY:Bill Johnson- YSU President
DESCRIPTION:
URL:https://thecurbstonecoaches.org/event/bill-johnson-ysu-president/
LOCATION:Avion on the Water Banquet Center\, 2177 W Western Reserve Rd #A\, Canfield\, OH\, 44406\, United States
CATEGORIES:Monday Programs
END:VEVENT
BEGIN:VEVENT
DTSTART;TZID=UTC:20260223T111500
DTEND;TZID=UTC:20260223T124500
DTSTAMP:20260423T193428
CREATED:20260129T211211Z
LAST-MODIFIED:20260217T223433Z
UID:651-1771845300-1771850700@thecurbstonecoaches.org
SUMMARY:Beau Brungard- YSU Quarterback/Walter Payton Award Winner (Note Time Change)
DESCRIPTION:
URL:https://thecurbstonecoaches.org/event/beau-brungard-ysu-quarterback-walter-payton-award-winner/
LOCATION:Avion on the Water Banquet Center\, 2177 W Western Reserve Rd #A\, Canfield\, OH\, 44406\, United States
CATEGORIES:Monday Programs
END:VEVENT
END:VCALENDAR