BEGIN:VCALENDAR
VERSION:2.0
PRODID:-//Curbstone Coaches - ECPv6.15.20//NONSGML v1.0//EN
CALSCALE:GREGORIAN
METHOD:PUBLISH
X-ORIGINAL-URL:https://thecurbstonecoaches.org
X-WR-CALDESC:Events for Curbstone Coaches
REFRESH-INTERVAL;VALUE=DURATION:PT1H
X-Robots-Tag:noindex
X-PUBLISHED-TTL:PT1H
BEGIN:VTIMEZONE
TZID:UTC
BEGIN:STANDARD
TZOFFSETFROM:+0000
TZOFFSETTO:+0000
TZNAME:UTC
DTSTART:20240101T000000
END:STANDARD
END:VTIMEZONE
BEGIN:VEVENT
DTSTART;TZID=UTC:20251006T114500
DTEND;TZID=UTC:20251006T131500
DTSTAMP:20260424T014616
CREATED:20250912T111725Z
LAST-MODIFIED:20250912T111725Z
UID:571-1759751100-1759756500@thecurbstonecoaches.org
SUMMARY:Sonny Vaccaro-Famous Sports Marketing Executive
DESCRIPTION:
URL:https://thecurbstonecoaches.org/event/sonny-vaccaro-famous-sports-marketing-executive/
LOCATION:Avion on the Water Banquet Center\, 2177 W Western Reserve Rd #A\, Canfield\, OH\, 44406\, United States
CATEGORIES:Monday Programs
END:VEVENT
BEGIN:VEVENT
DTSTART;TZID=UTC:20251013T114500
DTEND;TZID=UTC:20251013T131500
DTSTAMP:20260424T014616
CREATED:20250916T112910Z
LAST-MODIFIED:20250916T112910Z
UID:573-1760355900-1760361300@thecurbstonecoaches.org
SUMMARY:Dwaine Osborne-YSU Men's Basketball Associate Head Coach
DESCRIPTION:
URL:https://thecurbstonecoaches.org/event/dwaine-osborne-ysu-mens-basketball-associate-head-coach/
LOCATION:Avion on the Water Banquet Center\, 2177 W Western Reserve Rd #A\, Canfield\, OH\, 44406\, United States
CATEGORIES:Monday Programs
END:VEVENT
BEGIN:VEVENT
DTSTART;TZID=UTC:20251020T114500
DTEND;TZID=UTC:20251020T131500
DTSTAMP:20260424T014616
CREATED:20250916T113156Z
LAST-MODIFIED:20250916T113156Z
UID:576-1760960700-1760966100@thecurbstonecoaches.org
SUMMARY:Melissa Jackson-YSU Women's Head Basketball Coach
DESCRIPTION:
URL:https://thecurbstonecoaches.org/event/melissa-jackson-ysu-womens-head-basketball-coach/
LOCATION:Avion on the Water Banquet Center\, 2177 W Western Reserve Rd #A\, Canfield\, OH\, 44406\, United States
CATEGORIES:Monday Programs
END:VEVENT
BEGIN:VEVENT
DTSTART;TZID=UTC:20251027T114500
DTEND;TZID=UTC:20251027T131500
DTSTAMP:20260424T014616
CREATED:20250916T113454Z
LAST-MODIFIED:20250916T113454Z
UID:579-1761565500-1761570900@thecurbstonecoaches.org
SUMMARY:Bob Hannon-YSU Football Play By Play Broadcaster
DESCRIPTION:
URL:https://thecurbstonecoaches.org/event/bob-hannon-ysu-football-play-by-play-broadcaster/
LOCATION:Avion on the Water Banquet Center\, 2177 W Western Reserve Rd #A\, Canfield\, OH\, 44406\, United States
CATEGORIES:Monday Programs
END:VEVENT
END:VCALENDAR