BEGIN:VCALENDAR
VERSION:2.0
PRODID:-//Curbstone Coaches - ECPv6.15.20//NONSGML v1.0//EN
CALSCALE:GREGORIAN
METHOD:PUBLISH
X-ORIGINAL-URL:https://thecurbstonecoaches.org
X-WR-CALDESC:Events for Curbstone Coaches
REFRESH-INTERVAL;VALUE=DURATION:PT1H
X-Robots-Tag:noindex
X-PUBLISHED-TTL:PT1H
BEGIN:VTIMEZONE
TZID:UTC
BEGIN:STANDARD
TZOFFSETFROM:+0000
TZOFFSETTO:+0000
TZNAME:UTC
DTSTART:20230101T000000
END:STANDARD
END:VTIMEZONE
BEGIN:VEVENT
DTSTART;TZID=UTC:20241007T114500
DTEND;TZID=UTC:20241007T131500
DTSTAMP:20260424T211043
CREATED:20240802T213018Z
LAST-MODIFIED:20240802T213018Z
UID:473-1728301500-1728306900@thecurbstonecoaches.org
SUMMARY:Riley Jarrett-YSU Volleyball Coach
DESCRIPTION:
URL:https://thecurbstonecoaches.org/event/riley-jarrett-ysu-volleyball-coach/
LOCATION:Avion on the Water Banquet Center\, 2177 W Western Reserve Rd #A\, Canfield\, OH\, 44406\, United States
CATEGORIES:Monday Programs
END:VEVENT
BEGIN:VEVENT
DTSTART;TZID=UTC:20241014T114500
DTEND;TZID=UTC:20241014T131500
DTSTAMP:20260424T211043
CREATED:20240917T225724Z
LAST-MODIFIED:20240917T234321Z
UID:478-1728906300-1728911700@thecurbstonecoaches.org
SUMMARY:Bob Hannon-YSU Radio Play By Play Announcer
DESCRIPTION:
URL:https://thecurbstonecoaches.org/event/bob-hannon-ysu-radio-play-by-play-announcer/
LOCATION:Avion on the Water Banquet Center\, 2177 W Western Reserve Rd #A\, Canfield\, OH\, 44406\, United States
CATEGORIES:Monday Programs
END:VEVENT
BEGIN:VEVENT
DTSTART;TZID=UTC:20241021T114500
DTEND;TZID=UTC:20241021T131500
DTSTAMP:20260424T211043
CREATED:20240917T230121Z
LAST-MODIFIED:20240917T234421Z
UID:480-1729511100-1729516500@thecurbstonecoaches.org
SUMMARY:Melissa Jackson-YSU Women's Basketball Coach
DESCRIPTION:
URL:https://thecurbstonecoaches.org/event/melissa-jackson-ysu-womens-basketball-coach-2/
LOCATION:Avion on the Water Banquet Center\, 2177 W Western Reserve Rd #A\, Canfield\, OH\, 44406\, United States
CATEGORIES:Monday Programs
END:VEVENT
BEGIN:VEVENT
DTSTART;TZID=UTC:20241028T114500
DTEND;TZID=UTC:20241028T131500
DTSTAMP:20260424T211043
CREATED:20240917T233534Z
LAST-MODIFIED:20240917T234529Z
UID:485-1730115900-1730121300@thecurbstonecoaches.org
SUMMARY:JR McFarland-Hall of Fame Track Coach
DESCRIPTION:
URL:https://thecurbstonecoaches.org/event/jr-mcfarland-hall-of-fame-track-coach/
LOCATION:Avion on the Water Banquet Center\, 2177 W Western Reserve Rd #A\, Canfield\, OH\, 44406\, United States
CATEGORIES:Monday Programs
END:VEVENT
END:VCALENDAR