BEGIN:VCALENDAR
VERSION:2.0
PRODID:-//Curbstone Coaches - ECPv6.15.20//NONSGML v1.0//EN
CALSCALE:GREGORIAN
METHOD:PUBLISH
X-WR-CALNAME:Curbstone Coaches
X-ORIGINAL-URL:https://thecurbstonecoaches.org
X-WR-CALDESC:Events for Curbstone Coaches
REFRESH-INTERVAL;VALUE=DURATION:PT1H
X-Robots-Tag:noindex
X-PUBLISHED-TTL:PT1H
BEGIN:VTIMEZONE
TZID:UTC
BEGIN:STANDARD
TZOFFSETFROM:+0000
TZOFFSETTO:+0000
TZNAME:UTC
DTSTART:20240101T000000
END:STANDARD
END:VTIMEZONE
BEGIN:VEVENT
DTSTART;TZID=UTC:20250504T170000
DTEND;TZID=UTC:20250504T200000
DTSTAMP:20260424T150350
CREATED:20241124T144544Z
LAST-MODIFIED:20241124T144544Z
UID:530-1746378000-1746388800@thecurbstonecoaches.org
SUMMARY:56th Curbstone Coaches Hall of Fame Banquet
DESCRIPTION:Former Cleveland Browns and Oklahoma Sooners running back standout\, Greg Pruitt\, will serve as guest speaker. \nThe 2025 class includes John Butera (sports media)\, Tony Congemi (football)\, Roland Cummings (boxing)\, Tim Gleason (contribution to sports)\, Brian Gorby (track and field-cross country)\, Bob Jenkins (track and field)\, Steve Leslie (contribution to sports)\, Doug Kuberski (bowling)\, James W. Morrison (contribution to sports)\, Mike Pavlanski (football)\, Robb Schmidt (sports media)\, and Jim Vivo (football). \nFurther information can be obtained by calling 330-506-6774.
URL:https://thecurbstonecoaches.org/event/56th-curbstone-coaches-hall-of-fame-banquet/
LOCATION:Mr. Anthony’s Banquet Center\, 7440 South Ave.\, Youngstown\, OH\, 44512\, United States
CATEGORIES:Hall of Fame
END:VEVENT
END:VCALENDAR