BEGIN:VCALENDAR
VERSION:2.0
PRODID:-//Curbstone Coaches - ECPv6.15.20//NONSGML v1.0//EN
CALSCALE:GREGORIAN
METHOD:PUBLISH
X-ORIGINAL-URL:https://thecurbstonecoaches.org
X-WR-CALDESC:Events for Curbstone Coaches
REFRESH-INTERVAL;VALUE=DURATION:PT1H
X-Robots-Tag:noindex
X-PUBLISHED-TTL:PT1H
BEGIN:VTIMEZONE
TZID:UTC
BEGIN:STANDARD
TZOFFSETFROM:+0000
TZOFFSETTO:+0000
TZNAME:UTC
DTSTART:20240101T000000
END:STANDARD
END:VTIMEZONE
BEGIN:VEVENT
DTSTART;TZID=UTC:20251215T114500
DTEND;TZID=UTC:20251215T131500
DTSTAMP:20260424T000833
CREATED:20251031T203411Z
LAST-MODIFIED:20251031T203411Z
UID:609-1765799100-1765804500@thecurbstonecoaches.org
SUMMARY:Chuck Haskell- Executive Director of Ohio Athletic Commission
DESCRIPTION:
URL:https://thecurbstonecoaches.org/event/chuck-haskell-executive-director-of-ohio-athletic-commission/
LOCATION:Avion on the Water Banquet Center\, 2177 W Western Reserve Rd #A\, Canfield\, OH\, 44406\, United States
CATEGORIES:Monday Programs
END:VEVENT
END:VCALENDAR