BEGIN:VCALENDAR
VERSION:2.0
PRODID:-//Curbstone Coaches - ECPv6.15.20//NONSGML v1.0//EN
CALSCALE:GREGORIAN
METHOD:PUBLISH
X-ORIGINAL-URL:https://thecurbstonecoaches.org
X-WR-CALDESC:Events for Curbstone Coaches
REFRESH-INTERVAL;VALUE=DURATION:PT1H
X-Robots-Tag:noindex
X-PUBLISHED-TTL:PT1H
BEGIN:VTIMEZONE
TZID:UTC
BEGIN:STANDARD
TZOFFSETFROM:+0000
TZOFFSETTO:+0000
TZNAME:UTC
DTSTART:20240101T000000
END:STANDARD
END:VTIMEZONE
BEGIN:VEVENT
DTSTART;TZID=UTC:20250929T114500
DTEND;TZID=UTC:20250929T131500
DTSTAMP:20260424T030520
CREATED:20250909T153120Z
LAST-MODIFIED:20250909T153120Z
UID:569-1759146300-1759151700@thecurbstonecoaches.org
SUMMARY:Anthony Agresta-Sebring High School Football Coach-Topic 8 Man Football
DESCRIPTION:
URL:https://thecurbstonecoaches.org/event/anthony-agresta-sebring-high-school-football-coach-topic-8-man-football/
LOCATION:Avion on the Water Banquet Center\, 2177 W Western Reserve Rd #A\, Canfield\, OH\, 44406\, United States
CATEGORIES:Monday Programs
END:VEVENT
END:VCALENDAR